BEGIN:VCALENDAR
VERSION:2.0
PRODID:-//Dani Mattos - ECPv6.15.14//NONSGML v1.0//EN
CALSCALE:GREGORIAN
METHOD:PUBLISH
X-WR-CALNAME:Dani Mattos
X-ORIGINAL-URL:https://danimattos.com.br
X-WR-CALDESC:Eventos para Dani Mattos
REFRESH-INTERVAL;VALUE=DURATION:PT1H
X-Robots-Tag:noindex
X-PUBLISHED-TTL:PT1H
BEGIN:VTIMEZONE
TZID:America/Sao_Paulo
BEGIN:STANDARD
TZOFFSETFROM:-0200
TZOFFSETTO:-0300
TZNAME:-03
DTSTART:20130217T020000
END:STANDARD
BEGIN:DAYLIGHT
TZOFFSETFROM:-0300
TZOFFSETTO:-0200
TZNAME:-02
DTSTART:20131020T030000
END:DAYLIGHT
BEGIN:STANDARD
TZOFFSETFROM:-0200
TZOFFSETTO:-0300
TZNAME:-03
DTSTART:20140216T020000
END:STANDARD
BEGIN:DAYLIGHT
TZOFFSETFROM:-0300
TZOFFSETTO:-0200
TZNAME:-02
DTSTART:20141019T030000
END:DAYLIGHT
BEGIN:STANDARD
TZOFFSETFROM:-0200
TZOFFSETTO:-0300
TZNAME:-03
DTSTART:20150222T020000
END:STANDARD
BEGIN:DAYLIGHT
TZOFFSETFROM:-0300
TZOFFSETTO:-0200
TZNAME:-02
DTSTART:20151018T030000
END:DAYLIGHT
BEGIN:STANDARD
TZOFFSETFROM:-0200
TZOFFSETTO:-0300
TZNAME:-03
DTSTART:20160221T020000
END:STANDARD
BEGIN:DAYLIGHT
TZOFFSETFROM:-0300
TZOFFSETTO:-0200
TZNAME:-02
DTSTART:20161016T030000
END:DAYLIGHT
BEGIN:STANDARD
TZOFFSETFROM:-0200
TZOFFSETTO:-0300
TZNAME:-03
DTSTART:20170219T020000
END:STANDARD
BEGIN:DAYLIGHT
TZOFFSETFROM:-0300
TZOFFSETTO:-0200
TZNAME:-02
DTSTART:20171015T030000
END:DAYLIGHT
END:VTIMEZONE
BEGIN:VEVENT
DTSTART;TZID=America/Sao_Paulo:20160503T210000
DTEND;TZID=America/Sao_Paulo:20160503T230059
DTSTAMP:20260421T132919
CREATED:20160910T143352Z
LAST-MODIFIED:20160910T143908Z
UID:1635-1462309200-1462316459@danimattos.com.br
SUMMARY:Dani Mattos e Toque de Bambas no Drosophyla
DESCRIPTION:
URL:https://danimattos.com.br/agenda/dani-mattos-e-toque-de-bambas-no-drosophyla-4/
LOCATION:Drosophyla Bar\, Brasil
END:VEVENT
BEGIN:VEVENT
DTSTART;TZID=America/Sao_Paulo:20160405T203000
DTEND;TZID=America/Sao_Paulo:20160405T230059
DTSTAMP:20260421T132919
CREATED:20160331T220827Z
LAST-MODIFIED:20160331T220827Z
UID:1383-1459888200-1459897259@danimattos.com.br
SUMMARY:Dani Mattos e Toque de Bambas no Drosophyla
DESCRIPTION:
URL:https://danimattos.com.br/agenda/dani-mattos-e-toque-de-bambas-no-drosophyla/
LOCATION:Drosophyla Madame Lili\, Rua Nestor Pestana\, 163\, São Paulo\, S.P.\, Brasil
END:VEVENT
BEGIN:VEVENT
DTSTART;TZID=America/Sao_Paulo:20160301T083000
DTEND;TZID=America/Sao_Paulo:20160301T230059
DTSTAMP:20260421T132919
CREATED:20160229T151108Z
LAST-MODIFIED:20160229T151108Z
UID:1301-1456821000-1456873259@danimattos.com.br
SUMMARY:A Época de Ouro da MPB no Rádio - uma visão feminina
DESCRIPTION:
URL:https://danimattos.com.br/agenda/a-epoca-de-ouro-da-mpb-no-radio-uma-visao-feminina-2/
LOCATION:Drosophyla Madame Lili\, Rua Nestor Pestana\, 163\, São Paulo - SP \, S.P.\, Brasil
END:VEVENT
BEGIN:VEVENT
DTSTART;TZID=America/Sao_Paulo:20160202T210000
DTEND;TZID=America/Sao_Paulo:20160202T230059
DTSTAMP:20260421T132919
CREATED:20160127T175053Z
LAST-MODIFIED:20160127T175315Z
UID:1210-1454446800-1454454059@danimattos.com.br
SUMMARY:Dani Mattos e Toque de Bambas em pré-carnaval no Drosophyla
DESCRIPTION:
URL:https://danimattos.com.br/agenda/dani-mattos-e-toque-de-bambas-em-pre-carnaval-no-drosophyla/
LOCATION:Drosophyla Madame Lili\, Rua Nestor Pestana\, 163\, São Paulo \, São Paulo\, Brasil
END:VEVENT
BEGIN:VEVENT
DTSTART;TZID=America/Sao_Paulo:20151126T210000
DTEND;TZID=America/Sao_Paulo:20151126T230059
DTSTAMP:20260421T132919
CREATED:20151125T230150Z
LAST-MODIFIED:20151125T230150Z
UID:1136-1448571600-1448578859@danimattos.com.br
SUMMARY:Dani Mattos Quartet no Drosophyla
DESCRIPTION:
URL:https://danimattos.com.br/agenda/dani-mattos-quartet-no-drosophyla/
LOCATION:Drosophyla\, Rua Nestor Pestana\, 163\, São Paulo\, SP\, 01303010\, Brasil
END:VEVENT
BEGIN:VEVENT
DTSTART;TZID=America/Sao_Paulo:20151117T083000
DTEND;TZID=America/Sao_Paulo:20151117T212059
DTSTAMP:20260421T132919
CREATED:20151109T224526Z
LAST-MODIFIED:20151109T224526Z
UID:1127-1447749000-1447795259@danimattos.com.br
SUMMARY:"A Época de Ouro da MPB no Rádio - uma visão feminina"
DESCRIPTION:
URL:https://danimattos.com.br/agenda/a-epoca-de-ouro-da-mpb-no-radio-uma-visao-feminina/
LOCATION:ACTC – Casa do Coração\, Rua Oscar Freire\, 1463\, São Paulo - SP \, Brasil
END:VEVENT
BEGIN:VEVENT
DTSTART;TZID=America/Sao_Paulo:20151029T100000
DTEND;TZID=America/Sao_Paulo:20151029T233059
DTSTAMP:20260421T132919
CREATED:20151028T191242Z
LAST-MODIFIED:20151028T191242Z
UID:1098-1446112800-1446161459@danimattos.com.br
SUMMARY:Villa-Lobos para Todos
DESCRIPTION:
URL:https://danimattos.com.br/agenda/villa-lobos-para-todos/
LOCATION:Biblioteca Monteiro Lobato\, Rua Gal Jardim\, 485 - Vila Buarque\, São Paulo - SP \, SP\, Brasil
END:VEVENT
BEGIN:VEVENT
DTSTART;TZID=America/Sao_Paulo:20151029T100000
DTEND;TZID=America/Sao_Paulo:20151029T113059
DTSTAMP:20260421T132919
CREATED:20151014T191701Z
LAST-MODIFIED:20151014T191730Z
UID:1093-1446112800-1446118259@danimattos.com.br
SUMMARY:Grupo vocal Poucas e Boas apresenta: Villa-Lobos para Todos
DESCRIPTION:
URL:https://danimattos.com.br/agenda/grupo-vocal-poucas-e-boas-apresenta-villa-lobos-para-todos-2/
LOCATION:Biblioteca Monteiro Lobato\, Rua Gal Jardim\, 485 - Vila Buarque\, São Paulo - SP \, 01223-011\, United States
END:VEVENT
BEGIN:VEVENT
DTSTART;TZID=America/Sao_Paulo:20151022T100000
DTEND;TZID=America/Sao_Paulo:20151022T113059
DTSTAMP:20260421T132919
CREATED:20151014T191430Z
LAST-MODIFIED:20151014T191430Z
UID:1090-1445508000-1445513459@danimattos.com.br
SUMMARY:Grupo vocal Poucas e Boas apresenta Villa-Lobos para Todos
DESCRIPTION:
URL:https://danimattos.com.br/agenda/grupo-vocal-poucas-e-boas-apresenta-villa-lobos-para-todos/
LOCATION:Biblioteca Monteiro Lobato\, Rua Gal Jardim\, 485 - Vila Buarque\,  São Paulo \, São Paulo\, 01223-011\, Brasil
END:VEVENT
BEGIN:VEVENT
DTSTART;TZID=America/Sao_Paulo:20150909T210000
DTEND;TZID=America/Sao_Paulo:20150909T221559
DTSTAMP:20260421T132919
CREATED:20150907T125305Z
LAST-MODIFIED:20150907T125305Z
UID:1078-1441832400-1441836959@danimattos.com.br
SUMMARY:Masterclass com a cantora Ana Luiza
DESCRIPTION:
URL:https://danimattos.com.br/agenda/masterclass-com-a-cantora-ana-luiza/
LOCATION:Espaço Cultural Caraiga\, São Paulo - SP \, Brasil
ORGANIZER;CN="Dani Mattos":MAILTO:danielle..m.mattos@gmail.com
END:VEVENT
BEGIN:VEVENT
DTSTART;TZID=America/Sao_Paulo:20150712T190000
DTEND;TZID=America/Sao_Paulo:20150712T190000
DTSTAMP:20260421T132919
CREATED:20150709T122223Z
LAST-MODIFIED:20150709T122223Z
UID:1044-1436727600-1436727600@danimattos.com.br
SUMMARY:Dani Mattos Quartet no Festival de Jazz de Ilhabela
DESCRIPTION:
URL:https://danimattos.com.br/agenda/dani-mattos-quartet-no-festival-de-jazz-de-ilhabela/
LOCATION:palco da Vila\, Ilhabela\, S.P.\, Brasil
END:VEVENT
BEGIN:VEVENT
DTSTART;TZID=America/Sao_Paulo:20150704T160000
DTEND;TZID=America/Sao_Paulo:20150704T180059
DTSTAMP:20260421T132919
CREATED:20150703T194812Z
LAST-MODIFIED:20150703T195004Z
UID:1035-1436025600-1436032859@danimattos.com.br
SUMMARY:Sarau "Vinícius\, o poeta amador"\, no Authos Pagano
DESCRIPTION:
URL:https://danimattos.com.br/agenda/sarau-vinicius-o-poeta-amador-no-authos-pagano/
LOCATION:Centro Cultural e de Estudos Superiores Authos Pagano\, Rua Tomé de Souza\, 997. Lapa\, United States
END:VEVENT
BEGIN:VEVENT
DTSTART;TZID=America/Sao_Paulo:20150704T160000
DTEND;TZID=America/Sao_Paulo:20150704T180059
DTSTAMP:20260421T132919
CREATED:20150626T143753Z
LAST-MODIFIED:20150626T143753Z
UID:1029-1436025600-1436032859@danimattos.com.br
SUMMARY:Sarau poético-musical "Vinícius\, o poeta amador"
DESCRIPTION:
URL:https://danimattos.com.br/agenda/sarau-poetico-musical-vinicius-o-poeta-amador/
LOCATION:Authos Pagano\, Centro Cultural e de Estudos Superiores\, Rua Tomé de Souza\, 997. Lapa\, São Paulo - SP \, S.P.\, Brasil
END:VEVENT
BEGIN:VEVENT
DTSTART;TZID=America/Sao_Paulo:20150620T220000
DTEND;TZID=America/Sao_Paulo:20150620T220059
DTSTAMP:20260421T132919
CREATED:20150620T211909Z
LAST-MODIFIED:20150620T212039Z
UID:1019-1434837600-1434837659@danimattos.com.br
SUMMARY:Cronistas da Cidade na Virada Cultural
DESCRIPTION:
URL:https://danimattos.com.br/agenda/cronistas-da-cidade-na-virada-cultural/
LOCATION:Capela do Cemitério da Consolação\, Brasil
END:VEVENT
BEGIN:VEVENT
DTSTART;TZID=America/Sao_Paulo:20150613T110000
DTEND;TZID=America/Sao_Paulo:20150613T123059
DTSTAMP:20260421T132919
CREATED:20150527T105334Z
LAST-MODIFIED:20150527T105334Z
UID:997-1434193200-1434198659@danimattos.com.br
SUMMARY:"A Época da Ouro da MPB no Rádio - uma visão feminina"
DESCRIPTION:
URL:https://danimattos.com.br/agenda/a-epoca-da-ouro-da-mpb-no-radio-uma-visao-feminina/
LOCATION:Teatro MUBE Nova Cultural\, Rua Alemanha\, 221\, São Paulo - SP \, S.P.\, Brasil
ORGANIZER;CN="Danielle Milani Mattos":MAILTO:danielle..m.mattos@gmail.com
END:VEVENT
BEGIN:VEVENT
DTSTART;TZID=America/Sao_Paulo:20150516T110000
DTEND;TZID=America/Sao_Paulo:20150516T123059
DTSTAMP:20260421T132919
CREATED:20150418T135816Z
LAST-MODIFIED:20150418T135816Z
UID:961-1431774000-1431779459@danimattos.com.br
SUMMARY:Dani Mattos e Toque de Bambas em Cronistas da Cidade
DESCRIPTION:
URL:https://danimattos.com.br/agenda/dani-mattos-e-toque-de-bambas-em-cronistas-da-cidade/
LOCATION:teatro do MuBE\, Avenida Europa\, 218- Jardim Europa (entrada pela Rua Alemanha\, 221) \, São Paulo - SP \, Avenida Europa\, 218- Jardim Europa (entrada pela Rua Alemanh 01449-000\, United States
ORGANIZER;CN="Dani Mattos":MAILTO:danielle..m.mattos@gmail.com
END:VEVENT
BEGIN:VEVENT
DTSTART;TZID=America/Sao_Paulo:20150125T170000
DTEND;TZID=America/Sao_Paulo:20150125T190059
DTSTAMP:20260421T132919
CREATED:20150109T022445Z
LAST-MODIFIED:20150109T022445Z
UID:868-1422205200-1422212459@danimattos.com.br
SUMMARY:Toque de Bambas apresenta Cronistas da Cidade na Casa das Rosas
DESCRIPTION:
URL:https://danimattos.com.br/agenda/toque-de-bambas-apresenta-cronistas-da-cidade-na-casa-das-rosas/
LOCATION:Casa das Rosas\, Avenida Paulista\, 37 - Bela Vista\, São Paulo \, São Paulo\, S.P.\, 01311-000\, Brasil
END:VEVENT
BEGIN:VEVENT
DTSTART;TZID=America/Sao_Paulo:20150125T110000
DTEND;TZID=America/Sao_Paulo:20150125T140059
DTSTAMP:20260421T132919
CREATED:20150125T203324Z
LAST-MODIFIED:20150122T203849Z
UID:885-1422183600-1422194459@danimattos.com.br
SUMMARY:Dani Mattos & Toque de Bambas apresentam Cronistas da Cidade no Pari Bar
DESCRIPTION:
URL:https://danimattos.com.br/agenda/dani-mattos-toque-de-bambas-apresentam-cronistas-da-cidade-no-pari-bar/
LOCATION:Pari Bar\, Praça Dom José Gaspar\, 42 - República\, São Paulo - SP\, São Paulo - SP \, 01047-010 \, United States
END:VEVENT
BEGIN:VEVENT
DTSTART;TZID=America/Sao_Paulo:20150125T110000
DTEND;TZID=America/Sao_Paulo:20150125T140059
DTSTAMP:20260421T132919
CREATED:20150122T204736Z
LAST-MODIFIED:20150122T204736Z
UID:894-1422183600-1422194459@danimattos.com.br
SUMMARY:Dani Mattos & Toque de Bambas apresentam 'Cronistas da Cidade' no Pari Bar
DESCRIPTION:
URL:https://danimattos.com.br/agenda/dani-mattos-toque-de-bambas-apresentam-cronistas-da-cidade-no-pari-bar-2/
LOCATION:Pari Bar\, Pça Dom José Gaspar\, 42\, São Paulo - SP \,  01047-010 \, United States
ORGANIZER;CN="":MAILTO:danielle.m.mattos@gmail.com
END:VEVENT
BEGIN:VEVENT
DTSTART;TZID=America/Sao_Paulo:20150125T110000
DTEND;TZID=America/Sao_Paulo:20150125T140059
DTSTAMP:20260421T132919
CREATED:20150122T204626Z
LAST-MODIFIED:20150122T204626Z
UID:905-1422183600-1422194459@danimattos.com.br
SUMMARY:Dani Mattos & Toque de Bambas apresentam 'Cronistas da Cidade'
DESCRIPTION:
URL:https://danimattos.com.br/agenda/dani-mattos-toque-de-bambas-apresentam-cronistas-da-cidade/
LOCATION:Pari Bar\, Praça Dom José Gaspar\, 42 - República\, São Paulo - SP \,  01047-010 \, United States
ORGANIZER;CN="Dani Mattos":MAILTO:danielle.m.mattos@gmail.com
END:VEVENT
BEGIN:VEVENT
DTSTART;TZID=America/Sao_Paulo:20141118T200000
DTEND;TZID=America/Sao_Paulo:20141118T223059
DTSTAMP:20260421T132919
CREATED:20141114T145602Z
LAST-MODIFIED:20141114T145602Z
UID:842-1416340800-1416349859@danimattos.com.br
SUMMARY:Poucas & Boas no Recife - Encontro de Corais do Gracinha
DESCRIPTION:
URL:https://danimattos.com.br/agenda/poucas-boas-no-recife-encontro-de-corais-do-gracinha/
LOCATION:Escola Nossa Senhora das Graças\, Rua Tabapuã\, Itaim \, São Paulo\, Brasil
END:VEVENT
BEGIN:VEVENT
DTSTART;TZID=America/Sao_Paulo:20141105T210000
DTEND;TZID=America/Sao_Paulo:20141105T233059
DTSTAMP:20260421T132919
CREATED:20141023T220705Z
LAST-MODIFIED:20141023T221013Z
UID:808-1415221200-1415230259@danimattos.com.br
SUMMARY:Dani Mattos convida: Música brasileira\, dança e outras artes
DESCRIPTION:
URL:https://danimattos.com.br/agenda/dani-mattos-convida-musica-brasileira-danca-e-outras-artes/
LOCATION:Café Piu-PIu\, Rua Treze de Maio\, 134\, São Pauo\, S.P.\, Brasil
ORGANIZER;CN="Dani Mattos":MAILTO:danielle.m.mattos@gmail.com
END:VEVENT
END:VCALENDAR