BEGIN:VCALENDAR
VERSION:2.0
PRODID:-//Dani Mattos - ECPv6.15.14//NONSGML v1.0//EN
CALSCALE:GREGORIAN
METHOD:PUBLISH
X-WR-CALNAME:Dani Mattos
X-ORIGINAL-URL:https://danimattos.com.br
X-WR-CALDESC:Eventos para Dani Mattos
REFRESH-INTERVAL;VALUE=DURATION:PT1H
X-Robots-Tag:noindex
X-PUBLISHED-TTL:PT1H
BEGIN:VTIMEZONE
TZID:America/Sao_Paulo
BEGIN:STANDARD
TZOFFSETFROM:-0200
TZOFFSETTO:-0300
TZNAME:-03
DTSTART:20150222T020000
END:STANDARD
BEGIN:DAYLIGHT
TZOFFSETFROM:-0300
TZOFFSETTO:-0200
TZNAME:-02
DTSTART:20151018T030000
END:DAYLIGHT
BEGIN:STANDARD
TZOFFSETFROM:-0200
TZOFFSETTO:-0300
TZNAME:-03
DTSTART:20160221T020000
END:STANDARD
BEGIN:DAYLIGHT
TZOFFSETFROM:-0300
TZOFFSETTO:-0200
TZNAME:-02
DTSTART:20161016T030000
END:DAYLIGHT
BEGIN:STANDARD
TZOFFSETFROM:-0200
TZOFFSETTO:-0300
TZNAME:-03
DTSTART:20170219T020000
END:STANDARD
BEGIN:DAYLIGHT
TZOFFSETFROM:-0300
TZOFFSETTO:-0200
TZNAME:-02
DTSTART:20171015T030000
END:DAYLIGHT
BEGIN:STANDARD
TZOFFSETFROM:-0200
TZOFFSETTO:-0300
TZNAME:-03
DTSTART:20180218T020000
END:STANDARD
BEGIN:DAYLIGHT
TZOFFSETFROM:-0300
TZOFFSETTO:-0200
TZNAME:-02
DTSTART:20181104T030000
END:DAYLIGHT
BEGIN:STANDARD
TZOFFSETFROM:-0200
TZOFFSETTO:-0300
TZNAME:-03
DTSTART:20190217T020000
END:STANDARD
END:VTIMEZONE
BEGIN:VEVENT
DTSTART;TZID=America/Sao_Paulo:20190214T203000
DTEND;TZID=America/Sao_Paulo:20190218T210059
DTSTAMP:20260421T071845
CREATED:20190218T155644Z
LAST-MODIFIED:20190218T155644Z
UID:2192-1550176200-1550523659@danimattos.com.br
SUMMARY:Entrevista Dani Mattos e Toque de Bambas na TV Brasil
DESCRIPTION:
URL:https://danimattos.com.br/agenda/entrevista-dani-mattos-e-toque-de-bambas-na-tv-brasil/
LOCATION:TV Brasil\, Brasil
END:VEVENT
BEGIN:VEVENT
DTSTART;TZID=America/Sao_Paulo:20190125T223000
DTEND;TZID=America/Sao_Paulo:20190218T120059
DTSTAMP:20260421T071845
CREATED:20190218T155223Z
LAST-MODIFIED:20190218T155223Z
UID:2188-1548455400-1550491259@danimattos.com.br
SUMMARY:Cronistas da Cidade
DESCRIPTION:
URL:https://danimattos.com.br/agenda/cronistas-da-cidade/
LOCATION:Al Janiah\, São Paulo\, Brasil
END:VEVENT
BEGIN:VEVENT
DTSTART;TZID=America/Sao_Paulo:20181128T200000
DTEND;TZID=America/Sao_Paulo:20181128T220059
DTSTAMP:20260421T071845
CREATED:20181125T183646Z
LAST-MODIFIED:20181125T183807Z
UID:2176-1543435200-1543442459@danimattos.com.br
SUMMARY:sarau poético-musical Vinícius\, o poeta amador
DESCRIPTION:
URL:https://danimattos.com.br/agenda/sarau-poetico-musical-vinicius-o-poeta-amador-2/
LOCATION:Atelier Paulista\, Amalia de Noronha\, 301\, São Paulo\, 05410-010\, Brasil
END:VEVENT
BEGIN:VEVENT
DTSTART;TZID=America/Sao_Paulo:20181118T080000
DTEND;TZID=America/Sao_Paulo:20181118T170059
DTSTAMP:20260421T071845
CREATED:20181118T213827Z
LAST-MODIFIED:20181118T213827Z
UID:2170-1542528000-1542560459@danimattos.com.br
SUMMARY:Dani Mattos\, Tito Longo e Tiganá Macedo em Samba no Cabaré Cecília
DESCRIPTION:
URL:https://danimattos.com.br/agenda/dani-mattos-tito-longo-e-tigana-macedo-em-samba-no-cabare-cecilia/
LOCATION:Cabaré da Cecilia\, Rua Fortunato\, SP\, Brasil
END:VEVENT
BEGIN:VEVENT
DTSTART;TZID=America/Sao_Paulo:20181117T080000
DTEND;TZID=America/Sao_Paulo:20181118T170059
DTSTAMP:20260421T071845
CREATED:20181118T213332Z
LAST-MODIFIED:20181118T213332Z
UID:2167-1542441600-1542560459@danimattos.com.br
SUMMARY:Villa-Lobos para Todos em Boituva
DESCRIPTION:
URL:https://danimattos.com.br/agenda/villa-lobos-para-todos-em-boituva/
LOCATION:Sec de Cultura de Boituva\, Boituva\, S.P.\, Brasil
END:VEVENT
BEGIN:VEVENT
DTSTART;TZID=America/Sao_Paulo:20181111T110000
DTEND;TZID=America/Sao_Paulo:20181111T123059
DTSTAMP:20260421T071845
CREATED:20181029T225015Z
LAST-MODIFIED:20181029T225015Z
UID:2156-1541934000-1541939459@danimattos.com.br
SUMMARY:Cronistas da Cidade no Museu da Casa Brasileira
DESCRIPTION:
URL:https://danimattos.com.br/agenda/cronistas-da-cidade-no-museu-da-casa-brasileira/
LOCATION:Museu da Casa Brasileira\, Av. Brigadeiro Faria Lima\, São Paulo\, United States
END:VEVENT
BEGIN:VEVENT
DTSTART;TZID=America/Sao_Paulo:20181026T203000
DTEND;TZID=America/Sao_Paulo:20181029T220059
DTSTAMP:20260421T071845
CREATED:20181029T224744Z
LAST-MODIFIED:20181029T224744Z
UID:2154-1540585800-1540850459@danimattos.com.br
SUMMARY:Cronistas da Cidade - temporada
DESCRIPTION:
URL:https://danimattos.com.br/agenda/cronistas-da-cidade-temporada/
LOCATION:Sociedade Harmonia de Tênis\, Brasil
END:VEVENT
BEGIN:VEVENT
DTSTART;TZID=America/Sao_Paulo:20180919T203000
DTEND;TZID=America/Sao_Paulo:20180919T213059
DTSTAMP:20260421T071845
CREATED:20180918T133603Z
LAST-MODIFIED:20180918T133603Z
UID:2129-1537389000-1537392659@danimattos.com.br
SUMMARY:Aula aberta sobre a ópera
DESCRIPTION:
URL:https://danimattos.com.br/agenda/aula-aberta-sobre-a-opera/
LOCATION:Atelier Paulista\, Rua Amalia de Noronha\, 301\, São Paulo\, S.P.\, Brasil
ORGANIZER;CN="atelier paulista":MAILTO:atelierpaulista@gmail.com
END:VEVENT
BEGIN:VEVENT
DTSTART;TZID=America/Sao_Paulo:20180809T080000
DTEND;TZID=America/Sao_Paulo:20180815T170059
DTSTAMP:20260421T071845
CREATED:20180821T191400Z
LAST-MODIFIED:20180821T191416Z
UID:2101-1533801600-1534352459@danimattos.com.br
SUMMARY:Oficinas "Villa-Lobos para Todos em Guararapes\, Andradina e Fernandopolis\, pelas Oficinas Culturais\, Poiesis.
DESCRIPTION:
URL:https://danimattos.com.br/agenda/oficinas-villa-lobos-para-todos-em-guararapes-andradina-e-fernandopolis-pelas-oficinas-culturais-poiesis/
LOCATION:Araçatuba e região\, Brasil
END:VEVENT
BEGIN:VEVENT
DTSTART;TZID=America/Sao_Paulo:20180807T220000
DTEND;TZID=America/Sao_Paulo:20180807T233059
DTSTAMP:20260421T071845
CREATED:20180821T192248Z
LAST-MODIFIED:20180821T192248Z
UID:2116-1533679200-1533684659@danimattos.com.br
SUMMARY:Dani Mattos\, Tito Longo e Edu Batata em Samba Vermelho
DESCRIPTION:
URL:https://danimattos.com.br/agenda/dani-mattos-tito-longo-e-edu-batata-em-samba-vermelho/
LOCATION:Cabare da Cecilia\, Rua Fortunato\, 35\, São Paulo\, United States
END:VEVENT
BEGIN:VEVENT
DTSTART;TZID=America/Sao_Paulo:20180613T200000
DTEND;TZID=America/Sao_Paulo:20180627T230059
DTSTAMP:20260421T071845
CREATED:20180619T120428Z
LAST-MODIFIED:20180619T120428Z
UID:2091-1528920000-1530140459@danimattos.com.br
SUMMARY:Encontros musicais - "A Ópera e suas histórias"
DESCRIPTION:
URL:https://danimattos.com.br/agenda/encontros-musicais-a-opera-e-suas-historias/
LOCATION:Espaço Cultural\, São Paulo\, S.P.\, Brasil
ORGANIZER;CN="Dani Mattos":MAILTO:danimattosproducoes@gmail.com
END:VEVENT
BEGIN:VEVENT
DTSTART;TZID=America/Sao_Paulo:20180403T220000
DTEND;TZID=America/Sao_Paulo:20180403T220000
DTSTAMP:20260421T071845
CREATED:20180403T112636Z
LAST-MODIFIED:20180403T112636Z
UID:2079-1522792800-1522792800@danimattos.com.br
SUMMARY:Dani Mattos trio no All of jazz
DESCRIPTION:
URL:https://danimattos.com.br/agenda/dani-mattos-trio-no-all-of-jazz/
LOCATION:All of Jazz\, Rua João Cachoeira\, 1366. Itaim Bibi\, São Paulo\, United States
ORGANIZER;CN="Dani Mattos":MAILTO:danimattosproducoes@gmail.com
END:VEVENT
BEGIN:VEVENT
DTSTART;TZID=America/Sao_Paulo:20180318T200000
DTEND;TZID=America/Sao_Paulo:20180403T214559
DTSTAMP:20260421T071845
CREATED:20180403T221726Z
LAST-MODIFIED:20180403T221726Z
UID:2083-1521403200-1522791959@danimattos.com.br
SUMMARY:A Época de Ouro da MPB no Radio - uma visão feminina
DESCRIPTION:
URL:https://danimattos.com.br/agenda/a-epoca-de-ouro-da-mpb-no-radio-uma-visao-feminina-3/
LOCATION:Sociedade Harmonia de tênis\, Rua Canadá. Jardim Europa.\, United States
END:VEVENT
BEGIN:VEVENT
DTSTART;TZID=America/Sao_Paulo:20180203T130000
DTEND;TZID=America/Sao_Paulo:20180203T140059
DTSTAMP:20260421T071845
CREATED:20180130T193637Z
LAST-MODIFIED:20180130T193637Z
UID:2051-1517662800-1517666459@danimattos.com.br
SUMMARY:Feijoada pré-carnavalesca no Clube Harmonia
DESCRIPTION:
URL:https://danimattos.com.br/agenda/feijoada-pre-carnavalesca-no-clube-harmonia/
LOCATION:Sociedade Harmonia de tênis\, Rua Canadá\, S.P.\, Brasil
END:VEVENT
BEGIN:VEVENT
DTSTART;TZID=America/Sao_Paulo:20180125T200000
DTEND;TZID=America/Sao_Paulo:20180125T213059
DTSTAMP:20260421T071845
CREATED:20180130T193408Z
LAST-MODIFIED:20180130T193408Z
UID:2049-1516910400-1516915859@danimattos.com.br
SUMMARY:Cronistas da Cidade na Casa Tombada
DESCRIPTION:
URL:https://danimattos.com.br/agenda/cronistas-da-cidade-na-casa-tombada/
LOCATION:A Casa Tombada\, United States
END:VEVENT
BEGIN:VEVENT
DTSTART;TZID=America/Sao_Paulo:20180125T163000
DTEND;TZID=America/Sao_Paulo:20180125T173059
DTSTAMP:20260421T071845
CREATED:20180130T193219Z
LAST-MODIFIED:20180130T193219Z
UID:2047-1516897800-1516901459@danimattos.com.br
SUMMARY:Cronistas da Cidade na Fundação Ema Klabin
DESCRIPTION:
URL:https://danimattos.com.br/agenda/cronistas-da-cidade-na-fundacao-ema-klabin/
LOCATION:Fundação museu Ema Klabin\, Rua Portugal\, 43\, São Paulo\, S.P.\, Brasil
END:VEVENT
BEGIN:VEVENT
DTSTART;TZID=America/Sao_Paulo:20180125T143000
DTEND;TZID=America/Sao_Paulo:20180125T153059
DTSTAMP:20260421T071845
CREATED:20180130T192553Z
LAST-MODIFIED:20180130T192803Z
UID:2045-1516890600-1516894259@danimattos.com.br
SUMMARY:Cronistas da Cidade no CEU Jaguare
DESCRIPTION:
URL:https://danimattos.com.br/agenda/cronistas-da-cidade-no-ceu-jaguare/
LOCATION:CEU Jaguare\, Jaguare\, São Paulo\, S.P.\, Brasil
END:VEVENT
BEGIN:VEVENT
DTSTART;TZID=America/Sao_Paulo:20171202T213000
DTEND;TZID=America/Sao_Paulo:20171202T230059
DTSTAMP:20260421T071845
CREATED:20171125T140110Z
LAST-MODIFIED:20171125T140110Z
UID:2013-1512250200-1512255659@danimattos.com.br
SUMMARY:Dani Mattos trio no Clube Harmonia
DESCRIPTION:
URL:https://danimattos.com.br/agenda/dani-mattos-trio-no-clube-harmonia/
LOCATION:Sociedade Harmonia de tênis\, United States
END:VEVENT
BEGIN:VEVENT
DTSTART;TZID=America/Sao_Paulo:20171108T203000
DTEND;TZID=America/Sao_Paulo:20171108T220059
DTSTAMP:20260421T071845
CREATED:20171026T181247Z
LAST-MODIFIED:20171026T181316Z
UID:1931-1510173000-1510178459@danimattos.com.br
SUMMARY:Duo de piano e acordeonista no Espaço Cultural Caraiga - Bruno Monteiro e Thadeu Romano
DESCRIPTION:
URL:https://danimattos.com.br/agenda/duo-de-piano-e-acordeonista-no-espaco-cultural-caraiga-bruno-monteiro-e-thadeu-romano/
LOCATION:Espaço Cultural Caraigá\, S.P.\, Brasil
END:VEVENT
BEGIN:VEVENT
DTSTART;TZID=America/Sao_Paulo:20171007T173000
DTEND;TZID=America/Sao_Paulo:20171007T190059
DTSTAMP:20260421T071845
CREATED:20170928T113249Z
LAST-MODIFIED:20170928T113249Z
UID:1920-1507397400-1507402859@danimattos.com.br
SUMMARY:Sarau poético-musical "Vinícius\, o poeta amador" com Dani Mattos e grupo vocal Poucas & Boas.
DESCRIPTION:
URL:https://danimattos.com.br/agenda/sarau-poetico-musical-vinicius-o-poeta-amador-com-dani-mattos-e-grupo-vocal-poucas-boas/
LOCATION:CCSP\, Rua Vergueiro\, S.P.\, SP\, Brasil
END:VEVENT
BEGIN:VEVENT
DTSTART;TZID=America/Sao_Paulo:20170714T210000
DTEND;TZID=America/Sao_Paulo:20170714T230059
DTSTAMP:20260421T071845
CREATED:20170714T181645Z
LAST-MODIFIED:20170714T181645Z
UID:1896-1500066000-1500073259@danimattos.com.br
SUMMARY:Toque de Bambas em Cronistas da Cidade
DESCRIPTION:
URL:https://danimattos.com.br/agenda/toque-de-bambas-em-cronistas-da-cidade/
LOCATION:Sara o quê\, Por telefone\, São Paulo\, Brasil
END:VEVENT
BEGIN:VEVENT
DTSTART;TZID=America/Sao_Paulo:20170606T203000
DTEND;TZID=America/Sao_Paulo:20170627T230059
DTSTAMP:20260421T071845
CREATED:20170619T125240Z
LAST-MODIFIED:20170619T125240Z
UID:1868-1496781000-1498604459@danimattos.com.br
SUMMARY:Dani Mattos trio no bar do Terraço Italia
DESCRIPTION:Todas as terças de junho\, das 20:30 às 23:00.
URL:https://danimattos.com.br/agenda/dani-mattos-trio-no-bar-do-terraco-italia/
LOCATION:Terraço Italia Piano Bar\, Av. Ipiranga\, 344\, 41 andar\, São Paulo - SP \, S.P. \, Brasil
END:VEVENT
BEGIN:VEVENT
DTSTART;TZID=America/Sao_Paulo:20170502T080000
DTEND;TZID=America/Sao_Paulo:20170502T170059
DTSTAMP:20260421T071845
CREATED:20170502T180843Z
LAST-MODIFIED:20170502T180935Z
UID:1867-1493712000-1493744459@danimattos.com.br
SUMMARY:Dani Mattos trio -todas as terças-feiras de maio\, no Bar do Terraço Itália
DESCRIPTION:
URL:https://danimattos.com.br/agenda/dani-mattos-trio-3as-feiras-de-maio/
END:VEVENT
BEGIN:VEVENT
DTSTART;TZID=America/Sao_Paulo:20170307T203000
DTEND;TZID=America/Sao_Paulo:20170328T230059
DTSTAMP:20260421T071845
CREATED:20170313T154107Z
LAST-MODIFIED:20170313T154107Z
UID:1825-1488918600-1490742059@danimattos.com.br
SUMMARY:Dani Mattos trio todas as terças no bar do Terraço Italia
DESCRIPTION:
URL:https://danimattos.com.br/agenda/dani-mattos-trio-todas-as-tercas-no-bar-do-terraco-italia/
LOCATION:Terraço Italia\, bar\, Rua Ipiranga\, 344. República\, S.P.\, S.P.\, Brasil
END:VEVENT
BEGIN:VEVENT
DTSTART;TZID=America/Sao_Paulo:20170218T140000
DTEND;TZID=America/Sao_Paulo:20170218T153059
DTSTAMP:20260421T071845
CREATED:20170216T132226Z
LAST-MODIFIED:20170216T132226Z
UID:1807-1487426400-1487431859@danimattos.com.br
SUMMARY:Poucas e Boas na Biblioteca Villa-Lobos - sarau "Vinícius\, o poeta amador"
DESCRIPTION:
URL:https://danimattos.com.br/agenda/poucas-e-boas-na-biblioteca-villa-lobos-sarau-vinicius-o-poeta-amador/
LOCATION:Biblioteca Villa-Lobos\, Av. Prof. Fonseca Rodrigues\, 2001 - Alto de Pinheiros\, São Paulo - SP\, São Paulo - SP \, S.P.\, 05461-010\, Brasil
ORGANIZER;CN="Dani Mattos":MAILTO:danimattosproducoes@gmail.com
END:VEVENT
BEGIN:VEVENT
DTSTART;TZID=America/Sao_Paulo:20170207T203000
DTEND;TZID=America/Sao_Paulo:20170228T230059
DTSTAMP:20260421T071845
CREATED:20170209T144540Z
LAST-MODIFIED:20170209T144741Z
UID:1783-1486499400-1488322859@danimattos.com.br
SUMMARY:Dani Mattos trio em fevereiro no Terraço Italia
DESCRIPTION:
URL:https://danimattos.com.br/agenda/dani-mattos-trio-em-fevereiro-no-terraco-italia/
LOCATION:Terraço Italia Piano Bar\, Rua Ipiranga\, 344. República\, São Pauo\, S.P.\, Brasil
END:VEVENT
BEGIN:VEVENT
DTSTART;TZID=America/Sao_Paulo:20170125T110000
DTEND;TZID=America/Sao_Paulo:20170125T150059
DTSTAMP:20260421T071845
CREATED:20170124T220648Z
LAST-MODIFIED:20170124T220648Z
UID:1759-1485342000-1485356459@danimattos.com.br
SUMMARY:Cronistas da Cidade na Casa Mario de Andrade
DESCRIPTION:
URL:https://danimattos.com.br/agenda/cronistas-da-cidade-na-casa-mario-de-andrade/
LOCATION:Casa Mario de Andrade\, Rua Lopes Chaves\, 546\, São Paulo - SP \, Brasil
END:VEVENT
BEGIN:VEVENT
DTSTART;TZID=America/Sao_Paulo:20161124T190000
DTEND;TZID=America/Sao_Paulo:20161124T194559
DTSTAMP:20260421T071845
CREATED:20161123T142424Z
LAST-MODIFIED:20161123T142427Z
UID:1694-1480014000-1480016759@danimattos.com.br
SUMMARY:Sarau - Poucas e Boas na Feira de Arte
DESCRIPTION:
URL:https://danimattos.com.br/agenda/sarau-poucas-e-boas-na-feira-de-arte/
LOCATION:Galeria de arte Solange VIana\, Rua São João\, 246\, Cotia\, Brasil
END:VEVENT
BEGIN:VEVENT
DTSTART;TZID=America/Sao_Paulo:20161111T083000
DTEND;TZID=America/Sao_Paulo:20161111T123059
DTSTAMP:20260421T071845
CREATED:20161110T195906Z
LAST-MODIFIED:20161110T195906Z
UID:1680-1478853000-1478867459@danimattos.com.br
SUMMARY:Dani Mattos e Toque de Bambas no SPAC
DESCRIPTION:
URL:https://danimattos.com.br/agenda/dani-mattos-e-toque-de-bambas-no-spac/
LOCATION:SPAC Clube inglês\, Brasil
END:VEVENT
BEGIN:VEVENT
DTSTART;TZID=America/Sao_Paulo:20160917T160000
DTEND;TZID=America/Sao_Paulo:20160917T183059
DTSTAMP:20260421T071845
CREATED:20160913T223629Z
LAST-MODIFIED:20160913T223629Z
UID:1644-1474128000-1474137059@danimattos.com.br
SUMMARY:Dani Mattos e Toque de Bambas no Reserva - Sambazar
DESCRIPTION:
URL:https://danimattos.com.br/agenda/dani-mattos-e-toque-de-bambas-no-reserva-sambazar/
LOCATION:Reserva Bar\, Rua Pinheiros\, 456\, São Pauo\, S.P.\, Brasil
ORGANIZER;CN="Dani Mattos":MAILTO:danimattosproducoes@gmail.com
END:VEVENT
END:VCALENDAR